Workbook

Sheet 0.종합판정
A1: 1급 응급구조사 양성대학 정규지정심사 자체심사보고서 - 종합판정
A3: ■ 기관 정보
A4: 학교명 | C4: =IF('1.학생현황'!B3="","(미입력)",'1.학생현황'!B3) -> (미입력)
A5: 대학 유형 | C5: =IF('1.학생현황'!B5="","(미입력)",'1.학생현황'!B5) -> (미입력)
A6: 신설/편제미완성 여부 | C6: =IF('1.학생현황'!B10="","(미입력)",'1.학생현황'!B10) -> (미입력)
A7: 작성일자 | C7: =IF('1.학생현황'!B9="","(미입력)",'1.학생현황'!B9) -> (미입력)
A9: ■ 4개 심사영역 판정 결과
A10: No | B10: 심사영역 | C10: 근거(시트/셀) | D10: 판정결과 | E10: 비고
A11: 1 | B11: ① 교육과정 | C11: '2.교육과정운영현황'!T2 | D11: =IF('2.교육과정운영현황'!T2="교육과정 충족","충족","미충족") -> 미충족 | E11: 기준학점/실습시수/분반 등 종합
A12: 2 | B12: ② 인력 | C12: '3.인력현황'!N8 | D12: =IF('3.인력현황'!N8="인력 충족","충족","미충족") -> 미충족 | E12: 교원확보/전임비율/자격비율/조교확보 종합
A13: 3 | B13: ③ 교육시설 | C13: '4.교육시설확보현황'!M19 | D13: =IF('4.교육시설확보현황'!M19="시설 미충족","미충족","충족") -> 미충족 | E13: 강의실/실습실 개수 및 면적기준 종합
A14: 4 | B14: ④ 교육장비 | C14: '5.교육장비확보현황'!C61 | D14: ='5.교육장비확보현황'!C61 -> 미충족 | E14: 보유수량/정상작동여부 종합
A16: 종합판정 (4개 영역 모두 충족 시 지정기준 충족) | D16: =IF(COUNTIF(D11:D14,"미충족")=0,"충족","미충족 ("&COUNTIF(D11:D14,"미충족")&"개 영역)") -> 미충족 (4개 영역)

Sheet 1.학생현황
A1: 1급 응급구조사 양성대학 지정심사 자체심사보고서
A2: ■ 기관 정보
A3: 학교명
A4: 학교 주소
A5: 대학 유형
A6: 담당자 성명
A7: 담당자 연락처
A8: 담당자 이메일
A9: 작성일자
A10: 신설/편제미완성
A12: ■ 학생 현황 '자율전공학부 등 인원'은 입학정원과 분리하여 작성, 3년제 대학은 4학년 공란
A13: 학년 | B13: 입학정원 | C13: 분반 | D13: 자율전공학부 등 인원 기재
A14: 1학년
A15: 2학년
A16: 3학년
A17: 4학년
A18: 총 합계 | B18: =SUM(B14:B17) -> 0 | C18: =SUM(C14:C17) -> 0

Sheet 2.교육과정운영현황
A1: 2. 교육과정 운영 현황 | O1: 현장심사 평가표(교육과정) | T1: 현장심사 평가 최종(교육과정)
A2: 이수구분 | B2: 편성학년 | C2: 학기 | D2: 기준 과목명 | E2: 분리개설 (Y/N) | F2: 분반여부(Y/N) | G2: 분반인원 | H2: 실습교원 수 | I2: 개설 과목명 | J2: 학점 | K2: 실습시수 | L2: 협약서 여부 (실습시간포함) | M2: 현장 실습시간 | O2: 교과목 구성 및 학점 | P2: 실습 포함 교과목 운영 | Q2: 실습 교과목 분반 | R2: 임상, 구급 현장실습 | T2: =IF((OR(O41="미충족",P41="미충족",Q41="미충족",R41="미충족")),"교육과정 미충족","교육과정 충족") -> 교육과정 미충족
A3: ■ 기초의학 — 기준 17학점 이상 | O3: 일치여부 확인
A4: 전공필수 | B4: 선택 | C4: 선택 | D4: 해부학 | I4: 해부학에 해당하는 교과목명 작성 | O4: 선택
A5: 선택 | B5: 선택 | C5: 선택 | D5: 생리학 | O5: 선택
A6: 선택 | B6: 선택 | C6: 선택 | D6: 병리학 | O6: 선택
A7: 선택 | B7: 선택 | C7: 선택 | D7: 응급약리학 | O7: 선택
A8: 선택 | B8: 선택 | C8: 선택 | D8: 공중보건학 | O8: 선택
A9: 선택 | B9: 선택 | C9: 선택 | D9: 의학용어 | O9: 선택
D10: 소 계 | J10: =SUM(J4:J9) -> 0 | O10: =IF(OR(O4="선택",O5="선택",O6="선택",O7="선택",O8="선택",O9="선택"),"누락항목확인",IF(OR(O4="X",O5="X",O6="X",O7="X",O8="X",O9="X"),"미충족","충족")) -> 누락항목확인
A11: ■ 전문응급처치학 총론 — 기준 12학점 이상 | O11: 일치여부 확인
A12: 전공필수 | B12: 1 | C12: 2 | D12: 응급구조학개론 | O12: 선택
A13: 선택 | B13: 선택 | C13: 선택 | D13: ★ 환자구조와 이송 | O13: 선택 | P13: 선택 | Q13: 선택
A14: 선택 | B14: 선택 | C14: 선택 | D14: 재난관리학 | O14: 선택
A15: 선택 | B15: 선택 | C15: 선택 | D15: (선택) 상담·구조·이송 관련 기타 교과목 | O15: 선택
A16: 선택 | B16: 선택 | C16: 선택 | I16: 기타 교과목이 2개 이상 있을 경우 | O16: 추가선택
D17: 소 계 | J17: =SUM(J12:J16) -> 0 | O17: =IF(OR(O12="선택",O13="선택",O14="선택",O15="선택",O16="선택"),"누락항목확인",IF(OR(O12="X",O13="X",O14="X",O15="X",O16="X"),"미충족","충족")) -> 누락항목확인 | P17: =IF(OR(P12="선택",P13="선택",P14="선택",P15="선택",P16="선택"),"누락항목확인",IF(OR(P12="X",P13="X",P14="X",P15="X"),"미충족","충족")) -> 누락항목확인 | Q17: =IF((Q13="선택"),"누락항목확인",(IF((Q13="X"),"미충족","충족"))) -> 누락항목확인
A18: ■ 응급환자평가 및 관리 — 기준 12학점 이상 | O18: 일치여부 확인
A19: 선택 | B19: 선택 | C19: 선택 | D19: ★ 응급환자평가 | O19: 선택 | P19: 선택
A20: 선택 | B20: 선택 | C20: 선택 | D20: ★ 응급환자관리 | O20: 선택 | P20: 선택 | Q20: 선택
A21: 선택 | B21: 선택 | C21: 선택 | D21: (선택) 응급환자평가 및 관리 관련 기타 교과목 | O21: 선택
A22: 선택 | B22: 선택 | C22: 선택 | I22: 기타 교과목이 2개 이상 있을 경우 | O22: 추가선택
D23: 소 계 | J23: =SUM(,J19:J22) -> 0 | O23: =IF(OR(O19="선택",O20="선택",O21="선택",O22="선택"),"누락항목확인",IF(OR(O19="X",O20="X",O21="X",O22="X"),"미충족","충족")) -> 누락항목확인 | P23: =IF(OR(P19="선택",P20="선택",P21="선택",P22="선택"),"누락항목확인",IF(OR(P19="X",P20="X",P21="X"),"미충족","충족")) -> 누락항목확인 | Q23: =IF((Q20="선택"),"누락항목확인",(IF((Q20="X"),"미충족","충족"))) -> 누락항목확인
A24: ■ 전문응급처치학 각론 — 기준 33학점 이상 | O24: 일치여부 확인
A25: 선택 | B25: 선택 | C25: 선택 | D25: ★ 심전도 | O25: 선택 | P25: 선택
A26: 선택 | B26: 선택 | C26: 선택 | D26: ★ 기본인명소생술 | O26: 선택 | P26: 선택
A27: 선택 | B27: 선택 | C27: 선택 | D27: ★ 전문심장소생술 | O27: 선택 | P27: 선택
A28: 선택 | B28: 선택 | C28: 선택 | D28: ★ 전문외상처치학 | O28: 선택 | P28: 선택
A29: 선택 | B29: 선택 | C29: 선택 | D29: 전문내과응급처치학 | O29: 선택
A30: 선택 | B30: 선택 | C30: 선택 | D30: ★ 전문기도관리 | O30: 선택 | P30: 선택 | Q30: 선택
A31: 선택 | B31: 선택 | C31: 선택 | D31: 특수상황응급처치 | O31: 선택
D32: 소 계 | J32: =SUM(J25:J31) -> 0 | O32: =IF(OR(O25="선택",O26="선택",O27="선택",O28="선택",O29="선택",O30="선택",O31="선택"),"누락항목확인",IF(OR(O25="X",O26="X",O27="X",O28="X",O29="X",O30="X",O31="X"),"미충족","충족")) -> 누락항목확인 | P32: =IF(OR(P25="선택",P26="선택",P27="선택",P28="선택",P29="선택",P30="선택",P31="선택"),"누락항목확인",IF(OR(P25="X",P26="X",P27="X",P28="X",P29="X",P30="X",P31="X"),"미충족","충족")) -> 누락항목확인 | Q32: =IF((Q30="선택"),"누락항목확인",(IF((Q30="X"),"미충족","충족"))) -> 누락항목확인
A33: ■ 법령 — 기준 3학점 이상 | O33: 일치여부 확인
A34: 선택 | B34: 선택 | C34: 선택 | D34: 응급의료관련 법령 | O34: 선택
D35: 소 계 | J35: =SUM(J34:J34) -> 0 | O35: =IF(OR(O34="선택"),"누락항목확인",IF(OR(O34="X"),"미충족","충족")) -> 누락항목확인 | P35: =IF(OR(P34="선택"),"누락항목확인",IF(OR(P34="X"),"미충족","충족")) -> 충족
A36: ■ 통합실습 — 기준 15학점 이상 | O36: 일치여부 확인
A37: 선택 | B37: 선택 | C37: 선택 | D37: ★ 통합시뮬레이션 | O37: 선택 | P37: 선택 | Q37: 선택
A38: 선택 | B38: 선택 | C38: 선택 | D38: ★★ 임상현장실습 (360시간 이상) | O38: 선택 | R38: 선택
A39: 선택 | B39: 선택 | C39: 선택 | D39: ★★★ 구급현장실습 (180시간 이상) | O39: 선택 | R39: 선택
D40: 소 계 | J40: =SUM(J37:J39) -> 0 | O40: =IF(OR(O37="선택",O38="선택",O39="선택"),"누락항목확인",IF(OR(O37="X",O38="X",O39="X"),"미충족","충족")) -> 누락항목확인 | P40: =IF(OR(P37="선택",P38="선택",P39="선택"),"누락항목확인",IF(OR(P38="X",P39="X"),"미충족","충족")) -> 누락항목확인 | Q40: =IF(OR(Q37="선택"),"누락항목확인",IF(OR(Q37="X"),"미충족","충족")) -> 누락항목확인 | R40: =IF(OR(R38="선택"),"누락항목확인",IF(OR(R38="X",R39="X"),"미충족","충족")) -> 누락항목확인
D41: 총 학점 합계 | J41: =SUM(J10,J17,J23,J32,J35,J40) -> 0 | K41: 기준: 92학점 이상 | O41: =IF(AND(O10="충족",O17="충족",O32="충족",O23="충족",O35="충족",O40="충족"),"충족","미충족") -> 미충족 | P41: =IF(AND(P10="충족",P17="충족",P32="충족",P23="충족",P35="충족",P40="충족"),"충족","미충족") -> 미충족 | Q41: =IF(AND(Q10="충족",Q17="충족",Q32="충족",Q23="충족",Q35="충족",Q40="충족"),"충족","미충족") -> 미충족 | R41: =IF(AND(R17="충족",R32="충족",R23="충족",R40="충족"),"충족","미충족") -> 미충족

Sheet 3.인력현황
A1: 3. 인력 현황 | N1: 현장심사 평가표(인력)
A2: ■ 교원 현황 요약 (아래 교원 목록 입력 시 자동 집계) | N2: 2-1) 교원 확보 | O2: 2-2) 전임교원 비율 | P2: 2-3) 전임교원 중 자격 소지 비율 | Q2: 2-4) 조교 확보 | R2: 적용 기준(대학유형별)
A3: 전체 교원 (A)=(B)+(C) | B3: 전임교원 (B) | C3: 비전임교원 (C) | D3: 전임 중 자격소지자 (D)=(E)+(F)+(G) | E3: 전임(자격자) (E) | F3: 전임(비자격자인정) (F) | G3: 전임(유예인정) (G) | H3: 조교 수 (H) | J3: 재학 중인 각 학년의 입학 정원의 합 | N3: =A4/20*100 -> 0 | O3: =IF(N3=0,0,B4/(J4/20)*100) -> 0 | P3: =IF(B4=0,0,D4/B4*100) -> 0 | Q3: =H4 -> 0 | R3: =IF('1.학생현황'!$B$5="대학",60,IF('1.학생현황'!$B$5="","미입력",50)) -> 미입력
A4: =COUNTA(B8:B22) -> 0 | B4: =COUNTIF(E8:E22,"전임") -> 0 | C4: =COUNTIF(E8:E22,"비전임") -> 0 | D4: =E4+F4+G4 -> 0 | E4: =COUNTIFS(E8:E22,"전임",G8:G22,"소지") -> 0 | F4: =COUNTIFS(E8:E22,"전임",L8:L22,"인정") -> 0 | G4: =COUNTIFS(E8:E22,"전임",M8:M22,"인정") -> 0 | H4: =SUMPRODUCT((C26:C30="소속")*(((E26:E30="자격 소지자")+(E26:E30="응급구조(학)과 졸업생"))>0))+SUMPRODUCT((C26:C30="소속")*(E26:E30="채용공백유예")*(I26:I30<>"")*(I26:I30<60)) -> 0 | J4: ='1.학생현황'!B18 -> 0 | N4: =IF(N3>=J4/20,"충족","미충족") -> 충족 | O4: =IF('1.학생현황'!$B$5="","대학유형 입력 필요",IF(O3>=IF('1.학생현황'!$B$5="대학",60,50),"충족","미충족")) -> 대학유형 입력 필요 | P4: =IF(P3>=70,"충족","미충족") -> 미충족 | Q4: =IF(Q3>=1,"충족","미충족") -> 미충족
A6: ■ 교원 현황 | N6: 현장심사 평가 최종(인력)
A7: 번호 | B7: 성명 | C7: 응급구조학과 소속 | D7: 발령일자 (YYYY-MM-DD) | E7: 임용구분 | F7: 직위 | G7: 자격면허 유무 | H7: 자격면허 종류 | I7: 전공수업경력(년) | J7: 담당수업 (자견면허미소지 교원) | L7: 자격소지자인정 (자동) | M7: 전임 유예인정
A8: 1 | L8: =IF(AND(D8<>"",ISNUMBER(D8),D8<=DATE(2026,1,31),E8="전임",G8="미소지",I8<>"",I8>=3),"인정","-") -> - | M8: =IF(AND(E8="전임",G8="유예"),"인정","-") -> - | N8: =IF((OR(N4="미충족",O4="미충족",P4="미충족",Q4="미충족")),"인력 미충족","인력 충족") -> 인력 미충족
A9: 2 | L9: =IF(AND(D9<>"",ISNUMBER(D9),D9<=DATE(2026,1,31),E9="전임",G9="미소지",I9<>"",I9>=3),"인정","-") -> - | M9: =IF(AND(E9="전임",G9="유예"),"인정","-") -> -
A10: 3 | L10: =IF(AND(D10<>"",ISNUMBER(D10),D10<=DATE(2026,1,31),E10="전임",G10="미소지",I10<>"",I10>=3),"인정","-") -> - | M10: =IF(AND(E10="전임",G10="유예"),"인정","-") -> -
A11: 4 | L11: =IF(AND(D11<>"",ISNUMBER(D11),D11<=DATE(2026,1,31),E11="전임",G11="미소지",I11<>"",I11>=3),"인정","-") -> - | M11: =IF(AND(E11="전임",B11="유예"),"인정","-") -> -
A12: 5 | L12: =IF(AND(D12<>"",ISNUMBER(D12),D12<=DATE(2026,1,31),E12="전임",G12="미소지",I12<>"",I12>=3),"인정","-") -> - | M12: =IF(AND(E12="전임",G12="유예"),"인정","-") -> -
A13: 6 | L13: =IF(AND(D13<>"",ISNUMBER(D13),D13<=DATE(2026,1,31),E13="전임",G13="미소지",I13<>"",I13>=3),"인정","-") -> - | M13: =IF(AND(E13="전임",G13="유예"),"인정","-") -> -
A14: 7 | L14: =IF(AND(D14<>"",ISNUMBER(D14),D14<=DATE(2026,1,31),E14="전임",G14="미소지",I14<>"",I14>=3),"인정","-") -> - | M14: =IF(AND(E14="전임",G14="유예"),"인정","-") -> -
A15: 8 | L15: =IF(AND(D15<>"",ISNUMBER(D15),D15<=DATE(2026,1,31),E15="전임",G15="미소지",I15<>"",I15>=3),"인정","-") -> - | M15: =IF(AND(E15="전임",G15="유예"),"인정","-") -> -
A16: 9 | L16: =IF(AND(D16<>"",ISNUMBER(D16),D16<=DATE(2026,1,31),E16="전임",G16="미소지",I16<>"",I16>=3),"인정","-") -> - | M16: =IF(AND(E16="전임",G16="유예"),"인정","-") -> -
A17: 10 | L17: =IF(AND(D17<>"",ISNUMBER(D17),D17<=DATE(2026,1,31),E17="전임",G17="미소지",I17<>"",I17>=3),"인정","-") -> - | M17: =IF(AND(E17="전임",G17="유예"),"인정","-") -> -
A18: 11 | L18: =IF(AND(D18<>"",ISNUMBER(D18),D18<=DATE(2026,1,31),E18="전임",G18="미소지",I18<>"",I18>=3),"인정","-") -> - | M18: =IF(AND(E18="전임",G18="유예"),"인정","-") -> -
A19: 12 | L19: =IF(AND(D19<>"",ISNUMBER(D19),D19<=DATE(2026,1,31),E19="전임",G19="미소지",I19<>"",I19>=3),"인정","-") -> - | M19: =IF(AND(E19="전임",G19="유예"),"인정","-") -> -
A20: 13 | L20: =IF(AND(D20<>"",ISNUMBER(D20),D20<=DATE(2026,1,31),E20="전임",G20="미소지",I20<>"",I20>=3),"인정","-") -> - | M20: =IF(AND(E20="전임",G20="유예"),"인정","-") -> -
A21: 14 | L21: =IF(AND(D21<>"",ISNUMBER(D21),D21<=DATE(2026,1,31),E21="전임",G21="미소지",I21<>"",I21>=3),"인정","-") -> - | M21: =IF(AND(E21="전임",G21="유예"),"인정","-") -> -
A22: 15 | L22: =IF(AND(D22<>"",ISNUMBER(D22),D22<=DATE(2026,1,31),E22="전임",G22="미소지",I22<>"",I22>=3),"인정","-") -> - | M22: =IF(AND(E22="전임",G22="유예"),"인정","-") -> -
A24: ■ 조교 현황
A25: 번호 | B25: 성명 | C25: 응급구조학과 소속 | D25: 발령일자 (YYYY-MM-DD) | E25: 자격 구분 | F25: 자격 구분 | G25: 공백시작일 (YYYY-MM-DD) | H25: 기준일자 (YYYY-MM-DD) | I25: 공백일수
A26: 1
A27: 2
A28: 3
A29: 4 | I29: =IF(AND(G29<>"",H29<>""),H29-G29,"")
A30: 5 | I30: =IF(AND(G30<>"",H30<>""),H30-G30,"")

Sheet 4.교육시설확보현황
A1: 4. 시설 확보 현황 | I1: 현장심사 평가표(시설)
A2: ■ 강의실 현황 | I2: 구분 | J2: 기준인원(명) | K2: 실제면적(㎡) | L2: 기준면적(㎡) (1×기준인원)+16.5 | M2: 충족여부
A3: 구분 | B3: 개수 | C3: 면적(㎡) | D3: 위치 | E3: 확보예정 여부(Y/N) (신설/편제미완성) | I3: 1학년 강의실 | J3: =$K$7 -> 0 | K3: =C4 -> 0 | L3: =(1*J3)+16.5 -> 16.5 | M3: =IF(AND(B4>=1,K3>=L3),"충족",IF(AND(E4="Y",'1.학생현황'!$B$10<>"해당없음"),"충족(확보예정)","미충족")) -> 미충족
A4: 1학년 강의실 | I4: 2학년 강의실 | J4: =$K$7 -> 0 | K4: =C5 -> 0 | L4: =(1*J4)+16.5 -> 16.5 | M4: =IF(AND(B5>=1,K4>=L4),"충족",IF(AND(E5="Y",'1.학생현황'!$B$10<>"해당없음"),"충족(확보예정)","미충족")) -> 미충족
A5: 2학년 강의실 | I5: 3학년 강의실 | J5: =$K$7 -> 0 | K5: =C6 -> 0 | L5: =(1*J5)+16.5 -> 16.5 | M5: =IF(AND(B6>=1,K5>=L5),"충족",IF(AND(E6="Y",'1.학생현황'!$B$10<>"해당없음"),"충족(확보예정)","미충족")) -> 미충족
A6: 3학년 강의실 | I6: 4학년 강의실 | J6: =$K$7 -> 0 | K6: =C7 -> 0 | L6: =(1*J6)+16.5 -> 16.5 | M6: =IF(COUNTA('1.학생현황'!B14,'1.학생현황'!B15,'1.학생현황'!C16)=0,"미충족",IF('1.학생현황'!B17="","충족(3년제)",IF(B7="","미충족",IF(AND(B7>=1,K6>=L6),"충족",IF(E7="Y","충족(확보예정)","미충족"))))) -> 미충족
A7: 4학년 강의실 | I7: 교육생 수 기준인원 | K7: =IF(SUMPRODUCT(('1.학생현황'!$B$14:$B$17>0)*('1.학생현황'!$C$14:$C$17<=0))=0,MAX('1.학생현황'!$C$14:$C$17),MAX('1.학생현황'!$B$14:$B$17)) -> 0 | L7: 전 학년 분반 운영 시 분반 인원 중 최댓값 적용, 일부 학년만 분반 운영 시 학년별 입학정원 중 최대값 적용
A9: ■ 실습실 현황 | I9: BLS 실습실 | J9: =$K$7 -> 0 | K9: =C11 -> 0 | L9: =(1*J9)+16.5 -> 16.5 | M9: =IF(AND(B11>=1,K9>=L9),"충족",IF(AND(H11="Y",'1.학생현황'!$B$10<>"해당없음"),"충족(확보예정)","미충족")) -> 미충족
A10: 구분 | B10: 개수 | C10: 면적(㎡) | D10: 위치 | E10: 공동활용 (Y/N) | F10: 공동활용 대상 (타학과명, 강의실명) | G10: 전용실습실 (Y/N) | H10: 확보예정 여부(Y/N) (신설/편제미완성) | I10: ATLS 실습실 | J10: =$K$7 -> 0 | K10: =C12 -> 0 | L10: =(1*J10)+16.5 -> 16.5 | M10: =IF(AND(B12>=1,K10>=L10),"충족",IF(AND(H12="Y",'1.학생현황'!$B$10<>"해당없음"),"충족(확보예정)","미충족")) -> 미충족
A11: BLS 실습실 | I11: 응급환자평가 실습실 | J11: =$K$7 -> 0 | K11: =C13 -> 0 | L11: =(1*J11)+16.5 -> 16.5 | M11: =IF(AND(B13>=1,K11>=L11),"충족",IF(AND(H13="Y",'1.학생현황'!$B$10<>"해당없음"),"충족(확보예정)","미충족")) -> 미충족
A12: ATLS 실습실 | I12: ACLS 실습실 | J12: =$K$7 -> 0 | K12: =C14 -> 0 | L12: =(1*J12)+16.5 -> 16.5 | M12: =IF(AND(B14>=1,K12>=L12),"충족",IF(AND(H14="Y",'1.학생현황'!$B$10<>"해당없음"),"충족(확보예정)","미충족")) -> 미충족
A13: 응급환자평가 실습실
A14: ACLS 실습실 | I14: ■ 시설 기준 종합판정
I15: 학년별 강의실 1개 이상 확보 | M15: =IF(COUNTIF(M3:M6,"미충족")=0,"충족","미충족") -> 미충족
A16: ■ 시설 현황 요약 | I16: 실습실 4종(BLS/ATLS/응급환자평가/ACLS) 확보 | M16: =IF(COUNTIF(M9:M12,"미충족")=0,"충족","미충족") -> 미충족
A17: 강의실 합계 | B17: 실습실 합계 | C17: 전용실습실 수 | I17: 전용실습실 1개 이상 확보 | M17: =IF(C18>=1,"충족","미충족") -> 미충족
A18: =SUM(B4:B7) -> 0 | B18: =SUM(B11:B14) -> 0 | C18: =IF('1.학생현황'!$B$10<>"해당없음",SUMPRODUCT((B11:B14>=1)*(G11:G14="Y")),COUNTIF(G11:G14,"Y")) -> 0 | I18: 강의실·실습실 면적기준 개별 충족 | M18: =IF(COUNTIF(M3:M12,"미충족")=0,"충족","미충족") -> 미충족
I19: 시설 영역 종합판정 | M19: =IF(COUNTIF(M15:M18,"미충족")=0,"시설 충족","시설 미충족") -> 시설 미충족

Sheet 5.교육장비확보현황
A1: 5. 교육장비 확보 현황 | F1: 현장심사 평가표(장비) | K1: 보유기준의 학생수
A2: ※ 응급구조(학)과 등록 장비에 한함 | 보유 수량 및 위치 입력 ※ 현장심사 시 자체심사보고서와 대학 자산관리시스템(자산대장)의 자산번호를 대조할 수 있도록 장비 기준에 해당하는 자산목록을 별도로 색인하여 준비 필요 | K2: =IF(AND(O5="Y",O6="Y",O7="Y",O8="Y",O9="Y",O10="Y",O11="Y",O12="Y",O13="Y"),MAX(P5:P13),MAX(R5:R13)) -> 0
A3: 장비명 | B3: 기준 | C3: 보유 수량 | D3: 위치 | F3: 기준인원 (1개당 학생수) | G3: 보유기준 수량 (자동계산) | H3: 정상작동 확인수량 (입력) | I3: 충족여부 (자동) | J3: 자산관리번호 (입력) | N3: ▶ 보유기준 학생수 산정용 - 실습포함(★) 교과목 분반 확인
A4: 구급차 또는 구급차 모형 | B4: 1개 이상 | C4: 0 | F4: =IFERROR(VALUE(LEFT(B4,FIND("명당",B4)-1)),"-") -> - | G4: =IFERROR(IF(AND(F4=30,$K$2>30,$K$2<=33),1,ROUNDUP($K$2/F4,0)),1) -> 1 | H4: =C4 -> 0 | I4: =IF(H4>=G4,"충족","미충족") -> 미충족 | N4: 과목명(★) | O4: 분반여부 | P4: 분반인원 | Q4: 편성학년 | R4: 학년정원(매핑)
A5: 중증도 분류 훈련 세트 | B5: 1개 이상 | C5: 0 | F5: =IFERROR(VALUE(LEFT(B5,FIND("명당",B5)-1)),"-") -> - | G5: =IFERROR(IF(AND(F5=30,$K$2>30,$K$2<=33),1,ROUNDUP($K$2/F5,0)),1) -> 1 | H5: =C5 -> 0 | I5: =IF(H5>=G5,"충족","미충족") -> 미충족 | N5: ='2.교육과정운영현황'!D13 -> ★ 환자구조와 이송 | O5: ='2.교육과정운영현황'!F13 -> 0 | P5: ='2.교육과정운영현황'!G13 -> 0 | Q5: ='2.교육과정운영현황'!B13 -> 선택 | R5: =IFERROR(INDEX('1.학생현황'!$B$14:$B$17,VALUE(Q5)),0) -> 0
A6: 다수사상자 도상 훈련키트 | B6: 15명당 1세트 | C6: 0 | F6: =IFERROR(VALUE(LEFT(B6,FIND("명당",B6)-1)),"-") -> 15 | G6: =IFERROR(IF(AND(F6=30,$K$2>30,$K$2<=33),1,ROUNDUP($K$2/F6,0)),1) -> 0 | H6: =C6 -> 0 | I6: =IF(H6>=G6,"충족","미충족") -> 충족 | N6: ='2.교육과정운영현황'!D19 -> ★ 응급환자평가 | O6: ='2.교육과정운영현황'!F19 -> 0 | P6: ='2.교육과정운영현황'!G19 -> 0 | Q6: ='2.교육과정운영현황'!B19 -> 선택 | R6: =IFERROR(INDEX('1.학생현황'!$B$14:$B$17,VALUE(Q6)),0) -> 0
A7: 교육용 자동제세동기 | B7: 3명당 1개 | C7: 0 | F7: =IFERROR(VALUE(LEFT(B7,FIND("명당",B7)-1)),"-") -> 3 | G7: =IFERROR(IF(AND(F7=30,$K$2>30,$K$2<=33),1,ROUNDUP($K$2/F7,0)),1) -> 0 | H7: =C7 -> 0 | I7: =IF(H7>=G7,"충족","미충족") -> 충족 | N7: ='2.교육과정운영현황'!D20 -> ★ 응급환자관리 | O7: ='2.교육과정운영현황'!F20 -> 0 | P7: ='2.교육과정운영현황'!G20 -> 0 | Q7: ='2.교육과정운영현황'!B20 -> 선택 | R7: =IFERROR(INDEX('1.학생현황'!$B$14:$B$17,VALUE(Q7)),0) -> 0
A8: 기본 심폐소생술 마네킹 (성인 전신) | B8: 10명당 1대 | C8: 0 | F8: =IFERROR(VALUE(LEFT(B8,FIND("명당",B8)-1)),"-") -> 10 | G8: =IFERROR(IF(AND(F8=30,$K$2>30,$K$2<=33),1,ROUNDUP($K$2/F8,0)),1) -> 0 | H8: =C8 -> 0 | I8: =IF(H8>=G8,"충족","미충족") -> 충족 | N8: ='2.교육과정운영현황'!D25 -> ★ 심전도 | O8: ='2.교육과정운영현황'!F25 -> 0 | P8: ='2.교육과정운영현황'!G25 -> 0 | Q8: ='2.교육과정운영현황'!B25 -> 선택 | R8: =IFERROR(INDEX('1.학생현황'!$B$14:$B$17,VALUE(Q8)),0) -> 0
A9: 기본 심폐소생술 마네킹 (성인 상반신) | B9: 5명당 1대 | C9: 0 | F9: =IFERROR(VALUE(LEFT(B9,FIND("명당",B9)-1)),"-") -> 5 | G9: =IFERROR(IF(AND(F9=30,$K$2>30,$K$2<=33),1,ROUNDUP($K$2/F9,0)),1) -> 0 | H9: =C9 -> 0 | I9: =IF(H9>=G9,"충족","미충족") -> 충족 | N9: ='2.교육과정운영현황'!D26 -> ★ 기본인명소생술 | O9: ='2.교육과정운영현황'!F26 -> 0 | P9: ='2.교육과정운영현황'!G26 -> 0 | Q9: ='2.교육과정운영현황'!B26 -> 선택 | R9: =IFERROR(INDEX('1.학생현황'!$B$14:$B$17,VALUE(Q9)),0) -> 0
A10: 기본 심폐소생술 마네킹 (소아) | B10: 10명당 1대 | C10: 0 | F10: =IFERROR(VALUE(LEFT(B10,FIND("명당",B10)-1)),"-") -> 10 | G10: =IFERROR(IF(AND(F10=30,$K$2>30,$K$2<=33),1,ROUNDUP($K$2/F10,0)),1) -> 0 | H10: =C10 -> 0 | I10: =IF(H10>=G10,"충족","미충족") -> 충족 | N10: ='2.교육과정운영현황'!D27 -> ★ 전문심장소생술 | O10: ='2.교육과정운영현황'!F27 -> 0 | P10: ='2.교육과정운영현황'!G27 -> 0 | Q10: ='2.교육과정운영현황'!B27 -> 선택 | R10: =IFERROR(INDEX('1.학생현황'!$B$14:$B$17,VALUE(Q10)),0) -> 0
A11: 기본 심폐소생술 마네킹 (영아) | B11: 5명당 1대 | C11: 0 | F11: =IFERROR(VALUE(LEFT(B11,FIND("명당",B11)-1)),"-") -> 5 | G11: =IFERROR(IF(AND(F11=30,$K$2>30,$K$2<=33),1,ROUNDUP($K$2/F11,0)),1) -> 0 | H11: =C11 -> 0 | I11: =IF(H11>=G11,"충족","미충족") -> 충족 | N11: ='2.교육과정운영현황'!D28 -> ★ 전문외상처치학 | O11: ='2.교육과정운영현황'!F28 -> 0 | P11: ='2.교육과정운영현황'!G28 -> 0 | Q11: ='2.교육과정운영현황'!B28 -> 선택 | R11: =IFERROR(INDEX('1.학생현황'!$B$14:$B$17,VALUE(Q11)),0) -> 0
A12: 성인 ACLS 시뮬레이터 | B12: 30명당 1개 | C12: 0 | F12: =IFERROR(VALUE(LEFT(B12,FIND("명당",B12)-1)),"-") -> 30 | G12: =IFERROR(IF(AND(F12=30,$K$2>30,$K$2<=33),1,ROUNDUP($K$2/F12,0)),1) -> 0 | H12: =C12 -> 0 | I12: =IF(H12>=G12,"충족","미충족") -> 충족 | N12: ='2.교육과정운영현황'!D30 -> ★ 전문기도관리 | O12: ='2.교육과정운영현황'!F30 -> 0 | P12: ='2.교육과정운영현황'!G30 -> 0 | Q12: ='2.교육과정운영현황'!B30 -> 선택 | R12: =IFERROR(INDEX('1.학생현황'!$B$14:$B$17,VALUE(Q12)),0) -> 0
A13: 교육용 수동제세동기 | B13: 15명당 1개 | C13: 0 | F13: =IFERROR(VALUE(LEFT(B13,FIND("명당",B13)-1)),"-") -> 15 | G13: =IFERROR(IF(AND(F13=30,$K$2>30,$K$2<=33),1,ROUNDUP($K$2/F13,0)),1) -> 0 | H13: =C13 -> 0 | I13: =IF(H13>=G13,"충족","미충족") -> 충족 | N13: ='2.교육과정운영현황'!D37 -> ★ 통합시뮬레이션 | O13: ='2.교육과정운영현황'!F37 -> 0 | P13: ='2.교육과정운영현황'!G37 -> 0 | Q13: ='2.교육과정운영현황'!B37 -> 선택 | R13: =IFERROR(INDEX('1.학생현황'!$B$14:$B$17,VALUE(Q13)),0) -> 0
A14: 기계식 가슴압박 소생기 | B14: 30명당 1개 | C14: 0 | F14: =IFERROR(VALUE(LEFT(B14,FIND("명당",B14)-1)),"-") -> 30 | G14: =IFERROR(IF(AND(F14=30,$K$2>30,$K$2<=33),1,ROUNDUP($K$2/F14,0)),1) -> 0 | H14: =C14 -> 0 | I14: =IF(H14>=G14,"충족","미충족") -> 충족
A15: 12유도 심전도 측정기계 | B15: 30명당 1개 | C15: 0 | F15: =IFERROR(VALUE(LEFT(B15,FIND("명당",B15)-1)),"-") -> 30 | G15: =IFERROR(IF(AND(F15=30,$K$2>30,$K$2<=33),1,ROUNDUP($K$2/F15,0)),1) -> 0 | H15: =C15 -> 0 | I15: =IF(H15>=G15,"충족","미충족") -> 충족
A16: 기도유지 마네킹 (성인) | B16: 5명당 1대 | C16: 0 | F16: =IFERROR(VALUE(LEFT(B16,FIND("명당",B16)-1)),"-") -> 5 | G16: =IFERROR(IF(AND(F16=30,$K$2>30,$K$2<=33),1,ROUNDUP($K$2/F16,0)),1) -> 0 | H16: =C16 -> 0 | I16: =IF(H16>=G16,"충족","미충족") -> 충족
A17: 기도유지 마네킹 (소아) | B17: 15명당 1대 | C17: 0 | F17: =IFERROR(VALUE(LEFT(B17,FIND("명당",B17)-1)),"-") -> 15 | G17: =IFERROR(IF(AND(F17=30,$K$2>30,$K$2<=33),1,ROUNDUP($K$2/F17,0)),1) -> 0 | H17: =C17 -> 0 | I17: =IF(H17>=G17,"충족","미충족") -> 충족
A18: 기도유지 마네킹 (영아) | B18: 15명당 1대 | C18: 0 | F18: =IFERROR(VALUE(LEFT(B18,FIND("명당",B18)-1)),"-") -> 15 | G18: =IFERROR(IF(AND(F18=30,$K$2>30,$K$2<=33),1,ROUNDUP($K$2/F18,0)),1) -> 0 | H18: =C18 -> 0 | I18: =IF(H18>=G18,"충족","미충족") -> 충족
A19: 기도유지 마네킹 (기도폐쇄) | B19: 5명당 1대 | C19: 0 | F19: =IFERROR(VALUE(LEFT(B19,FIND("명당",B19)-1)),"-") -> 5 | G19: =IFERROR(IF(AND(F19=30,$K$2>30,$K$2<=33),1,ROUNDUP($K$2/F19,0)),1) -> 0 | H19: =C19 -> 0 | I19: =IF(H19>=G19,"충족","미충족") -> 충족
A20: 비디오 후두경 | B20: 15명당 1개 | C20: 0 | F20: =IFERROR(VALUE(LEFT(B20,FIND("명당",B20)-1)),"-") -> 15 | G20: =IFERROR(IF(AND(F20=30,$K$2>30,$K$2<=33),1,ROUNDUP($K$2/F20,0)),1) -> 0 | H20: =C20 -> 0 | I20: =IF(H20>=G20,"충족","미충족") -> 충족
A21: 이동형 인공호흡기 (Portable Ventilator) | B21: 1개 이상 | C21: 0 | F21: =IFERROR(VALUE(LEFT(B21,FIND("명당",B21)-1)),"-") -> - | G21: =IFERROR(IF(AND(F21=30,$K$2>30,$K$2<=33),1,ROUNDUP($K$2/F21,0)),1) -> 1 | H21: =C21 -> 0 | I21: =IF(H21>=G21,"충족","미충족") -> 미충족
A22: 기관내 삽관 세트 | B22: 5명당 1개 | C22: 0 | F22: =IFERROR(VALUE(LEFT(B22,FIND("명당",B22)-1)),"-") -> 5 | G22: =IFERROR(IF(AND(F22=30,$K$2>30,$K$2<=33),1,ROUNDUP($K$2/F22,0)),1) -> 0 | H22: =C22 -> 0 | I22: =IF(H22>=G22,"충족","미충족") -> 충족
A23: 호기말 이산화탄소 측정기 | B23: 10명당 1개 | C23: 0 | F23: =IFERROR(VALUE(LEFT(B23,FIND("명당",B23)-1)),"-") -> 10 | G23: =IFERROR(IF(AND(F23=30,$K$2>30,$K$2<=33),1,ROUNDUP($K$2/F23,0)),1) -> 0 | H23: =C23 -> 0 | I23: =IF(H23>=G23,"충족","미충족") -> 충족
A24: 성문외기도기 후두마스크 (LMA) | B24: 5명당 1개 | C24: 0 | F24: =IFERROR(VALUE(LEFT(B24,FIND("명당",B24)-1)),"-") -> 5 | G24: =IFERROR(IF(AND(F24=30,$K$2>30,$K$2<=33),1,ROUNDUP($K$2/F24,0)),1) -> 0 | H24: =C24 -> 0 | I24: =IF(H24>=G24,"충족","미충족") -> 충족
A25: 성문외기도기 후두관 기도기 | B25: 5명당 1개 | C25: 0 | F25: =IFERROR(VALUE(LEFT(B25,FIND("명당",B25)-1)),"-") -> 5 | G25: =IFERROR(IF(AND(F25=30,$K$2>30,$K$2<=33),1,ROUNDUP($K$2/F25,0)),1) -> 0 | H25: =C25 -> 0 | I25: =IF(H25>=G25,"충족","미충족") -> 충족
... A57: 코인두기도기 세트 | B57: 5명당 1개 | C57: 0 | F57: =IFERROR(VALUE(LEFT(B57,FIND("명당",B57)-1)),"-") -> 5 | G57: =IFERROR(IF(AND(F57=30,$K$2>30,$K$2<=33),1,ROUNDUP($K$2/F57,0)),1) -> 0 | H57: =C57 -> 0 | I57: =IF(H57>=G57,"충족","미충족") -> 충족
A59: ■ 장비 기준 종합판정
A60: 미충족 항목 수 | B60: =COUNTIF(I4:I57,"미충족") -> 3
A61: 장비 영역 종합판정 | C61: =IF(B60=0,"충족","미충족") -> 미충족
